BEGIN:VCALENDAR
VERSION:2.0
PRODID:-//ical.marudot.com//iCal Event Maker
CALSCALE:GREGORIAN
BEGIN:VTIMEZONE
TZID:Europe/Berlin
TZURL:http://tzurl.org/zoneinfo-outlook/Europe/Berlin
X-LIC-LOCATION:Europe/Berlin
BEGIN:DAYLIGHT
TZOFFSETFROM:+0100
TZOFFSETTO:+0200
TZNAME:CEST
DTSTART:19700329T020000
RRULE:FREQ=YEARLY;BYMONTH=3;BYDAY=-1SU
END:DAYLIGHT
BEGIN:STANDARD
TZOFFSETFROM:+0200
TZOFFSETTO:+0100
TZNAME:CET
DTSTART:19701025T030000
RRULE:FREQ=YEARLY;BYMONTH=10;BYDAY=-1SU
END:STANDARD
END:VTIMEZONE
BEGIN:VEVENT
DTSTAMP:[NOW]
UID:PortolanoEvent_2176
DTSTART;TZID=Europe/Berlin:20150702T160000
DTEND;TZID=Europe/Berlin:20150702T180000
SUMMARY:LA CONTRAFFAZIONE DEI MARCHI NOTORI. STRUMENTI DI TUTELA ED ESPERIENZA DEGLI OPERATORI DEL LUSSO E DELLA MODA.
DESCRIPTION:More info: https://portolano.it/en/events/la-contraffazione-dei-marchi-notori-strumenti-di-tutela-ed-esperienza-degli-operatori-del-lusso-e-della-moda
LOCATION:Via dell'Orso 2, Milano
END:VEVENT
END:VCALENDAR