BEGIN:VCALENDAR
VERSION:2.0
PRODID:-//ical.marudot.com//iCal Event Maker
CALSCALE:GREGORIAN
BEGIN:VTIMEZONE
TZID:Europe/Berlin
TZURL:http://tzurl.org/zoneinfo-outlook/Europe/Berlin
X-LIC-LOCATION:Europe/Berlin
BEGIN:DAYLIGHT
TZOFFSETFROM:+0100
TZOFFSETTO:+0200
TZNAME:CEST
DTSTART:19700329T020000
RRULE:FREQ=YEARLY;BYMONTH=3;BYDAY=-1SU
END:DAYLIGHT
BEGIN:STANDARD
TZOFFSETFROM:+0200
TZOFFSETTO:+0100
TZNAME:CET
DTSTART:19701025T030000
RRULE:FREQ=YEARLY;BYMONTH=10;BYDAY=-1SU
END:STANDARD
END:VTIMEZONE
BEGIN:VEVENT
DTSTAMP:[NOW]
UID:PortolanoEvent_5648
DTSTART;TZID=Europe/Berlin:20201112T170000
DTEND;TZID=Europe/Berlin:20201112T190000
SUMMARY:Arbitrato Semplificato: nuove regole, nuovi orizzonti - Camera Arbitrale, mondo delle imprese e legali (nazionali e d’Oltralpe) a confronto
DESCRIPTION:More info: https://portolano.it/en/events/arbitrato-semplificato-nuove-regole-nuovi-orizzonti-camera-arbitrale-mondo-delle-imprese-e-legali-nazionali-e-doltralpe-a-confronto
LOCATION:
END:VEVENT
END:VCALENDAR